BEGIN:VCALENDAR
PRODID:-//eluceo/ical//2.0/EN
VERSION:2.0
CALSCALE:GREGORIAN
BEGIN:VEVENT
UID:66334bd4fa32e75c9213811a06a5bb2d
DTSTAMP:20260419T142528Z
SUMMARY:Info-Abend Wirtschaftsinformatik HF (online)
DESCRIPTION:Teilnehmer/innen des Informationsanlasses Studium Wirtschaftsin
 formatiker/in HF
DTSTART:20261116T183000
DTEND:20261116T193000
LOCATION:online
END:VEVENT
END:VCALENDAR
