BEGIN:VCALENDAR
PRODID:-//eluceo/ical//2.0/EN
VERSION:2.0
CALSCALE:GREGORIAN
BEGIN:VEVENT
UID:3d153e20625e18ab764b4ff28284322d
DTSTAMP:20260420T181914Z
SUMMARY:Info-Abend Wirtschaftsinformatik HF (online)
DESCRIPTION:Teilnehmer/innen des Informationsanlasses Studium Wirtschaftsin
 formatiker/in HF
DTSTART:20261214T183000
DTEND:20261214T193000
LOCATION:online
END:VEVENT
END:VCALENDAR
